BEGIN:VCALENDAR
VERSION:2.0
PRODID:-//wp-events-plugin.com//7.2.3.1//EN
TZID:America/Los_Angeles
X-WR-TIMEZONE:America/Los_Angeles
BEGIN:VEVENT
UID:4@highschoolofthearts.org
DTSTART;TZID=America/Los_Angeles:20240531T183000
DTEND;TZID=America/Los_Angeles:20240531T210000
DTSTAMP:20240611T213939Z
URL:https://highschoolofthearts.org/zh/events/spring-spectacular-2024/
SUMMARY:Spring Spectacular 2024
DESCRIPTION:Absolutely breathtaking! HSArts students and staff proudly pres
 ent the end-of-school-year Spring Spectacular Recital and Art Exhibition! 
 Immerse yourself in a mesmerizing display of performing and visual arts. T
 his is an event not to be missed\, where every moment promises to be nothi
 ng short of spectacular! Join us as we celebrate the remarkable achievemen
 ts that arise from relentless hard work and unwavering passion. 
ATTACH;FMTTYPE=image/jpeg:https://highschoolofthearts.org/wp-content/uploa
 ds/2024/03/City-box_2-scaled.webp
CATEGORIES:School Events
LOCATION:Herbst Theater\, 401 Van Ness Ave\, San Francisco\, California\, 9
 4102\, 美国
GEO:37.77956;-122.420532
X-APPLE-STRUCTURED-LOCATION;VALUE=URI;X-ADDRESS=401 Van Ness Ave\, San Fran
 cisco\, California\, 94102\, 美国;X-APPLE-RADIUS=100;X-TITLE=Herbst Thea
 ter:geo:37.77956,-122.420532
END:VEVENT
BEGIN:VTIMEZONE
TZID:America/Los_Angeles
X-LIC-LOCATION:America/Los_Angeles
BEGIN:DAYLIGHT
DTSTART:20240310T030000
TZOFFSETFROM:-0800
TZOFFSETTO:-0700
TZNAME:PDT
END:DAYLIGHT
END:VTIMEZONE
END:VCALENDAR